BEGIN:VCALENDAR
VERSION:2.0
PRODID:-//Tukios.com/
BEGIN:VEVENT
UID:511b292a-1dcd-488f-aa94-f3d3ad7f9c69@obituaries.saddlebackchapel.com
DTSTAMP:20260423T025106Z
DTSTART:20260501T180000Z
DTEND:20260501T190000Z
SUMMARY:Memorial Service
DESCRIPTION:
URL:https://obituaries.saddlebackchapel.com/leonardo-ortega
LOCATION: 220 E Main St  Tustin CA 92780
GEO:33.7417289;-117.8220192
END:VEVENT
END:VCALENDAR